Workbook

Sheet Instructions
B1: Information Page
B3: This is the standard budget template given to events to ensure they are spending money wisely. It has been set out so it is simple to use but still contains the high detail of any budget
B4: The Summary tab is the main area in which to set out the budget. There are 4 areas: Summary, Event Details, Income, Expenditure. This guide will walk you through each zone to understand what magic is going on in this spreadsheet
B5: Any cell coloured in the following colour is writeable:
B7: The point of this section is to set up the parameters of the events so that the treasurer doesn't have to do all the maths in their head. The rest of the spreadsheet is based off the values entered here.
B19: Minimum/Maximum Attendees: | C19: The range of numbers you expect to acheive at the event (this will adjust the 'Number of paying attendees' columns accordingly
B20: Contingency: | C20: This should be agreed with the national treasurer upon creating the budget, generally it will be set as 5-10% of total revenue
B21: Actual Attendance: | C21: The actual number of paid attendees for the event to understand where you are in the budget
B22: Number of Nights: | C22: The number of nights the event is running for
B23: Number of Days: | C23: The number of days the event is running for
B24: This is where some of the magic happens. This should not be touched as there are plenty of calculations going on in here. The aim is to give a summary of the budget as a whole and at approximately what point you will reach the breakeven point of the event. Red columns mean a loss will be made, whereas as green is a surplus
B37: Gross Revenue: | C37: The total income at that stage of paying attendees
B38: Total Expenditure: | C38: The total of all fixed and variable costs
B39: Contingency: | C39: This is a percentage (set in event details) of the gross revenue from which will be included as an expenditure. A contingency is useful for times in which unexpected events occur and an event commitee need to suddenly pay for a few hundred pounds worth of dominos at a rally (true story)
B40: Total Surplus: | C40: The end subtracts the expenditures and contingency from the revenue to give the surplus of the event. Ideally this wants to be positive
B41: Surplus Per Person: | C41: Similar to the total surplus however splits the total up between the number of people
B42: The section we love the most, all the money that's going to fill up the account! At the top of the tab a quick summary of the total revenue is shown along with the coloured number blocks to show the breakeven point
B55: Booking Incomes: | C55: The only cells that needs altering is the cost of each book stage and the percentage of attendees signing up per stage, everything else is set
C56: If you only have 1 stage of booking: Set the cost of 'Early Booking Income' and 'Late Booking Income' to £0.00. In Event Details, set the early and late booking percentage to 0% and normal booking to 100%
B57: Items (Column): | C57: Enter any item of income down the column
B58: Cost & Unit (Column): | C58: The cost depends on the unit you are using for the camp. For example each person may pay £3.50 for a badge so would come under 'per person' otherwise the income may not be dependent on attendees so would be a 'one time fee'
C59: Note: Any special pricing will require entering in manually in each 'number of paying attendees' column. Set the unit to '-' too
B60: Percentage (Column): | C60: This is useful for noting a percentage of the attendees that will be paying for the item. For example 80% of members may want badges
B61: Expenditure is very similar to the Income section, however enter in the prices for fixed and variable costs
B72: The Accounts Log acts like a working budget except in real time. Anything coming into or out of the events account is to be recorded here with the bank balance indicated meeting the actual balance of the event account
B84: Left Hand Side (The log): | C84: Enter in the date of transaction, what it is and the amount coming in or out of the account
B85: Category: | C85: The income and expenses categories are derived from the budget and can be used towards the summary of the right hand side of the sheet. Select '-' if you would like the right side to display the explanation instead of a category
B86: Right Hand Side (Summary): | C86: The summary of the account showing what money has been spent where so that it can be compared with the budget how much over/under the balance is

Sheet Summary
A1: Event Budget | B1: Summary | E1: This budget template might look big and scary, but rest assured this template is designed to be easier to use than past templates. Use the Instructions Tab for information on each section
D4: Number of Paying Attendees | P4: Actual Paid Attendees
D5: =C19 -> 100 | E5: =ROUNDUP(sum($C$19+((1*($C$20-$C$19))/10)),0) -> 115 | F5: =ROUNDUP(sum($C$19+((2*($C$20-$C$19))/10)),0) -> 130 | G5: =ROUNDUP(sum($C$19+((3*($C$20-$C$19))/10)),0) -> 145 | H5: =ROUNDUP(sum($C$19+((4*($C$20-$C$19))/10)),0) -> 160 | I5: =ROUNDUP(sum($C$19+((5*($C$20-$C$19))/10)),0) -> 175 | J5: =ROUNDUP(sum($C$19+((6*($C$20-$C$19))/10)),0) -> 190 | K5: =ROUNDUP(sum($C$19+((7*($C$20-$C$19))/10)),0) -> 205 | L5: =ROUNDUP(sum($C$19+((8*($C$20-$C$19))/10)),0) -> 220 | M5: =ROUNDUP(sum($C$19+((9*($C$20-$C$19))/10)),0) -> 235 | N5: =C20 -> 250 | P5: =C22 -> 204
B6: Gross Revenue | D6: =SUM(IncomeExpenditure!E$8:E$17) -> 3520 | E6: =SUM(IncomeExpenditure!F$8:F$17) -> 4036 | F6: =SUM(IncomeExpenditure!G$8:G$17) -> 4552 | G6: =SUM(IncomeExpenditure!H$8:H$17) -> 5068 | H6: =SUM(IncomeExpenditure!I$8:I$17) -> 5584 | I6: =SUM(IncomeExpenditure!J$8:J$17) -> 6100 | J6: =SUM(IncomeExpenditure!K$8:K$17) -> 6616 | K6: =SUM(IncomeExpenditure!L$8:L$17) -> 7132 | ... N6: =SUM(IncomeExpenditure!O$8:O$17) -> 8680 | P6: =SUM(IncomeExpenditure!Q$8:Q$17) -> 7097.6
B7: Total Expenditure | D7: =SUM(IncomeExpenditure!E$24:E$56) -> 5106 | E7: =SUM(IncomeExpenditure!F$24:F$56) -> 5256 | F7: =SUM(IncomeExpenditure!G$24:G$56) -> 5406 | G7: =SUM(IncomeExpenditure!H$24:H$56) -> 5556 | H7: =SUM(IncomeExpenditure!I$24:I$56) -> 5706 | I7: =SUM(IncomeExpenditure!J$24:J$56) -> 5856 | J7: =SUM(IncomeExpenditure!K$24:K$56) -> 6006 | K7: =SUM(IncomeExpenditure!L$24:L$56) -> 6156 | ... N7: =SUM(IncomeExpenditure!O$24:O$56) -> 6606 | P7: =SUM(IncomeExpenditure!Q$24:Q$56) -> 6146
B8: Contingency | D8: =sum($C$21*D6) -> 176 | E8: =sum($C$21*E6) -> 201.8 | F8: =sum($C$21*F6) -> 227.6 | G8: =sum($C$21*G6) -> 253.4 | H8: =sum($C$21*H6) -> 279.2 | I8: =sum($C$21*I6) -> 305 | J8: =sum($C$21*J6) -> 330.8 | K8: =sum($C$21*K6) -> 356.6 | ... N8: =sum($C$21*N6) -> 434 | P8: =sum($C$21*P6) -> 354.88
B9: Total Surplus | D9: =sum(D$6-D$7-D$8) -> -1762 | E9: =sum(E$6-E$7-E$8) -> -1421.8 | F9: =sum(F$6-F$7-F$8) -> -1081.6 | G9: =sum(G$6-G$7-G$8) -> -741.4 | H9: =sum(H$6-H$7-H$8) -> -401.2 | I9: =sum(I$6-I$7-I$8) -> -61 | J9: =sum(J$6-J$7-J$8) -> 279.2 | K9: =sum(K$6-K$7-K$8) -> 619.4 | ... N9: =sum(N$6-N$7-N$8) -> 1640 | P9: =sum(P$6-P$7-P$8) -> 596.72
A10: Last Revised:
B11: Surplus Per Person | D11: =sum(D$9/D$5) -> -17.62 | E11: =sum(E$9/E$5) -> -12.363478 | F11: =sum(F$9/F$5) -> -8.32 | G11: =sum(G$9/G$5) -> -5.1131034 | H11: =sum(H$9/H$5) -> -2.5075 | I11: =sum(I$9/I$5) -> -0.34857143 | J11: =sum(J$9/J$5) -> 1.4694737 | K11: =sum(K$9/K$5) -> 3.0214634 | ... N11: =sum(N$9/N$5) -> 6.56 | P11: =sum(P$9/P$5) -> 2.925098
A12: 44838
A16: Event Details | C16: Set up the details of your event here to specify how many you expect to attend, the length of the event and the percentage of bookings you expect for each stage. | H16: Notes | K16: Use this area for any notes and reminders about the budget
A19: Minimum Attendees | C19: 100
A20: Maximum Attendees | C20: 250
A21: Contingency | C21: 0.05
A22: Actual Paid Attendance | C22: 204
A23: Number of Nights | C23: 2
A24: Number of Days | C24: 3

Sheet IncomeExpenditure
A1: Quick Summary | E1: Number of Paying Attendees
E2: =Summary!D5 -> 100 | F2: =Summary!E5 -> 115 | G2: =Summary!F5 -> 130 | H2: =Summary!G5 -> 145 | I2: =Summary!H5 -> 160 | J2: =Summary!I5 -> 175 | K2: =Summary!J5 -> 190 | L2: =Summary!K5 -> 205 | ... Q2: =Summary!P5 -> 204
A3: Total Surplus | E3: =Summary!D9 -> -1762 | F3: =Summary!E9 -> -1421.8 | G3: =Summary!F9 -> -1081.6 | H3: =Summary!G9 -> -741.4 | I3: =Summary!H9 -> -401.2 | J3: =Summary!I9 -> -61 | K3: =Summary!J9 -> 279.2 | L3: =Summary!K9 -> 619.4 | ... Q3: =Summary!P9 -> 596.72
A5: Income | E5: Enter any income you expect to be getting for your event. The first 3 lines are dedicated for participant fees and after that any other income you expect. For example merchandise revenue or indoor accommodation charges. Once the fee is entered, the sheet will automatically calculate the income for the number of paying participants specified.
A6: Item | B6: Cost | C6: Unit | D6: Percentage | E6: Number of Paying Attendees | Q6: Actual Paid Attendees | R6: Notes
E7: =Summary!D5 -> 100 | F7: =Summary!E5 -> 115 | G7: =Summary!F5 -> 130 | H7: =Summary!G5 -> 145 | I7: =Summary!H5 -> 160 | J7: =Summary!I5 -> 175 | K7: =Summary!J5 -> 190 | L7: =Summary!K5 -> 205 | ... O7: =Summary!N5 -> 250 | Q7: =Summary!P5 -> 204
A8: Early Booking Income | B8: 30 | C8: per person | D8: 0.9 | E8: =$B8*E$7*$D$8 -> 2700 | F8: =$B8*F$7*$D$8 -> 3105 | G8: =$B8*G$7*$D$8 -> 3510 | H8: =$B8*H$7*$D$8 -> 3915 | I8: =$B8*I$7*$D$8 -> 4320 | J8: =$B8*J$7*$D$8 -> 4725 | K8: =$B8*K$7*$D$8 -> 5130 | L8: =$B8*L$7*$D$8 -> 5535 | ... O8: =$B8*O$7*$D$8 -> 6750 | Q8: =$B8*Q$7*$D$8 -> 5508
A9: Normal Booking Income | B9: 33 | C9: per person | D9: 0.05 | E9: =$B9*E$7*$D$9 -> 165 | F9: =$B9*F$7*$D$9 -> 189.75 | G9: =$B9*G$7*$D$9 -> 214.5 | H9: =$B9*H$7*$D$9 -> 239.25 | I9: =$B9*I$7*$D$9 -> 264 | J9: =$B9*J$7*$D$9 -> 288.75 | K9: =$B9*K$7*$D$9 -> 313.5 | L9: =$B9*L$7*$D$9 -> 338.25 | ... O9: =$B9*O$7*$D$9 -> 412.5 | Q9: =$B9*Q$7*$D$9 -> 336.6
A10: Late Booking Income | B10: 35 | C10: per person | D10: 0.05 | E10: =$B10*E$7*$D$10 -> 175 | F10: =$B10*F$7*$D$10 -> 201.25 | G10: =$B10*G$7*$D$10 -> 227.5 | H10: =$B10*H$7*$D$10 -> 253.75 | I10: =$B10*I$7*$D$10 -> 280 | J10: =$B10*J$7*$D$10 -> 306.25 | K10: =$B10*K$7*$D$10 -> 332.5 | L10: =$B10*L$7*$D$10 -> 358.75 | ... O10: =$B10*O$7*$D$10 -> 437.5 | Q10: =$B10*Q$7*$D$10 -> 357
A11: Indoor Accommodation | B11: =8*10 -> 80 | C11: one time fee | D11: 1 | E11: =SUM(SWITCH($C11,"one time fee", $B11, "per person", sum($B11*E$7), "per night", $B11*Summary!$C$23, "per person per night", Summary!$C$23*$B11*E$7, "per day", $B11*Summary!$C$24, "-", "")*$D11) -> 80 | F11: =SUM(SWITCH($C11,"one time fee", $B11, "per person", sum($B11*F$7), "per night", $B11*Summary!$C$23, "per person per night", Summary!$C$23*$B11*F$7, "per day", $B11*Summary!$C$24, "-", "")*$D11) -> 80 | G11: =SUM(SWITCH($C11,"one time fee", $B11, "per person", sum($B11*G$7), "per night", $B11*Summary!$C$23, "per person per night", Summary!$C$23*$B11*G$7, "per day", $B11*Summary!$C$24, "-", "")*$D11) -> 80 | H11: =SUM(SWITCH($C11,"one time fee", $B11, "per person", sum($B11*H$7), "per night", $B11*Summary!$C$23, "per person per night", Summary!$C$23*$B11*H$7, "per day", $B11*Summary!$C$24, "-", "")*$D11) -> 80 | I11: =SUM(SWITCH($C11,"one time fee", $B11, "per person", sum($B11*I$7), "per night", $B11*Summary!$C$23, "per person per night", Summary!$C$23*$B11*I$7, "per day", $B11*Summary!$C$24, "-", "")*$D11) -> 80 | J11: =SUM(SWITCH($C11,"one time fee", $B11, "per person", sum($B11*J$7), "per night", $B11*Summary!$C$23, "per person per night", Summary!$C$23*$B11*J$7, "per day", $B11*Summary!$C$24, "-", "")*$D11) -> 80 | K11: =SUM(SWITCH($C11,"one time fee", $B11, "per person", sum($B11*K$7), "per night", $B11*Summary!$C$23, "per person per night", Summary!$C$23*$B11*K$7, "per day", $B11*Summary!$C$24, "-", "")*$D11) -> 80 | L11: =SUM(SWITCH($C11,"one time fee", $B11, "per person", sum($B11*L$7), "per night", $B11*Summary!$C$23, "per person per night", Summary!$C$23*$B11*L$7, "per day", $B11*Summary!$C$24, "-", "")*$D11) -> 80 | ... O11: =SUM(SWITCH($C11,"one time fee", $B11, "per person", sum($B11*O$7), "per night", $B11*Summary!$C$23, "per person per night", Summary!$C$23*$B11*O$7, "per day", $B11*Summary!$C$24, "-", "")*$D11) -> 80 | Q11: =SUM(SWITCH($C11,"one time fee", $B11, "per person", sum($B11*Q$7), "per night", $B11*Summary!$C$23, "per person per night", Summary!$C$23*$B11*Q$7, "per day", $B11*Summary!$C$24, "-", "")*$D11) -> 80 | R11: Any extra income through extras of the site (e.g. indoor accommodation, bell tents...)
A12: Merchandise | B12: 5 | C12: per person | D12: 0.8 | E12: =SUM(SWITCH($C12,"one time fee", $B12, "per person", sum($B12*E$7), "per night", $B12*Summary!$C$23, "per person per night", Summary!$C$23*$B12*E$7, "per day", $B12*Summary!$C$24, "-", "")*$D12) -> 400 | F12: =SUM(SWITCH($C12,"one time fee", $B12, "per person", sum($B12*F$7), "per night", $B12*Summary!$C$23, "per person per night", Summary!$C$23*$B12*F$7, "per day", $B12*Summary!$C$24, "-", "")*$D12) -> 460 | G12: =SUM(SWITCH($C12,"one time fee", $B12, "per person", sum($B12*G$7), "per night", $B12*Summary!$C$23, "per person per night", Summary!$C$23*$B12*G$7, "per day", $B12*Summary!$C$24, "-", "")*$D12) -> 520 | H12: =SUM(SWITCH($C12,"one time fee", $B12, "per person", sum($B12*H$7), "per night", $B12*Summary!$C$23, "per person per night", Summary!$C$23*$B12*H$7, "per day", $B12*Summary!$C$24, "-", "")*$D12) -> 580 | I12: =SUM(SWITCH($C12,"one time fee", $B12, "per person", sum($B12*I$7), "per night", $B12*Summary!$C$23, "per person per night", Summary!$C$23*$B12*I$7, "per day", $B12*Summary!$C$24, "-", "")*$D12) -> 640 | J12: =SUM(SWITCH($C12,"one time fee", $B12, "per person", sum($B12*J$7), "per night", $B12*Summary!$C$23, "per person per night", Summary!$C$23*$B12*J$7, "per day", $B12*Summary!$C$24, "-", "")*$D12) -> 700 | K12: =SUM(SWITCH($C12,"one time fee", $B12, "per person", sum($B12*K$7), "per night", $B12*Summary!$C$23, "per person per night", Summary!$C$23*$B12*K$7, "per day", $B12*Summary!$C$24, "-", "")*$D12) -> 760 | L12: =SUM(SWITCH($C12,"one time fee", $B12, "per person", sum($B12*L$7), "per night", $B12*Summary!$C$23, "per person per night", Summary!$C$23*$B12*L$7, "per day", $B12*Summary!$C$24, "-", "")*$D12) -> 820 | ... O12: =SUM(SWITCH($C12,"one time fee", $B12, "per person", sum($B12*O$7), "per night", $B12*Summary!$C$23, "per person per night", Summary!$C$23*$B12*O$7, "per day", $B12*Summary!$C$24, "-", "")*$D12) -> 1000 | Q12: =SUM(SWITCH($C12,"one time fee", $B12, "per person", sum($B12*Q$7), "per night", $B12*Summary!$C$23, "per person per night", Summary!$C$23*$B12*Q$7, "per day", $B12*Summary!$C$24, "-", "")*$D12) -> 816 | R12: Surplus expect to receive from any merchandise
A13: Fundraising | B13: 0 | C13: one time fee | D13: 1 | E13: =SUM(SWITCH($C13,"one time fee", $B13, "per person", sum($B13*E$7), "per night", $B13*Summary!$C$23, "per person per night", Summary!$C$23*$B13*E$7, "per day", $B13*Summary!$C$24, "-", "")*$D13) -> 0 | F13: =SUM(SWITCH($C13,"one time fee", $B13, "per person", sum($B13*F$7), "per night", $B13*Summary!$C$23, "per person per night", Summary!$C$23*$B13*F$7, "per day", $B13*Summary!$C$24, "-", "")*$D13) -> 0 | G13: =SUM(SWITCH($C13,"one time fee", $B13, "per person", sum($B13*G$7), "per night", $B13*Summary!$C$23, "per person per night", Summary!$C$23*$B13*G$7, "per day", $B13*Summary!$C$24, "-", "")*$D13) -> 0 | H13: =SUM(SWITCH($C13,"one time fee", $B13, "per person", sum($B13*H$7), "per night", $B13*Summary!$C$23, "per person per night", Summary!$C$23*$B13*H$7, "per day", $B13*Summary!$C$24, "-", "")*$D13) -> 0 | I13: =SUM(SWITCH($C13,"one time fee", $B13, "per person", sum($B13*I$7), "per night", $B13*Summary!$C$23, "per person per night", Summary!$C$23*$B13*I$7, "per day", $B13*Summary!$C$24, "-", "")*$D13) -> 0 | J13: =SUM(SWITCH($C13,"one time fee", $B13, "per person", sum($B13*J$7), "per night", $B13*Summary!$C$23, "per person per night", Summary!$C$23*$B13*J$7, "per day", $B13*Summary!$C$24, "-", "")*$D13) -> 0 | K13: =SUM(SWITCH($C13,"one time fee", $B13, "per person", sum($B13*K$7), "per night", $B13*Summary!$C$23, "per person per night", Summary!$C$23*$B13*K$7, "per day", $B13*Summary!$C$24, "-", "")*$D13) -> 0 | L13: =SUM(SWITCH($C13,"one time fee", $B13, "per person", sum($B13*L$7), "per night", $B13*Summary!$C$23, "per person per night", Summary!$C$23*$B13*L$7, "per day", $B13*Summary!$C$24, "-", "")*$D13) -> 0 | ... O13: =SUM(SWITCH($C13,"one time fee", $B13, "per person", sum($B13*O$7), "per night", $B13*Summary!$C$23, "per person per night", Summary!$C$23*$B13*O$7, "per day", $B13*Summary!$C$24, "-", "")*$D13) -> 0 | Q13: =SUM(SWITCH($C13,"one time fee", $B13, "per person", sum($B13*Q$7), "per night", $B13*Summary!$C$23, "per person per night", Summary!$C$23*$B13*Q$7, "per day", $B13*Summary!$C$24, "-", "")*$D13) -> 0 | R13: Fundraising expected to receive
A14: Grant | B14: 0 | C14: one time fee | D14: 1 | E14: =SUM(SWITCH($C14,"one time fee", $B14, "per person", sum($B14*E$7), "per night", $B14*Summary!$C$23, "per person per night", Summary!$C$23*$B14*E$7, "per day", $B14*Summary!$C$24, "-", "")*$D14) -> 0 | F14: =SUM(SWITCH($C14,"one time fee", $B14, "per person", sum($B14*F$7), "per night", $B14*Summary!$C$23, "per person per night", Summary!$C$23*$B14*F$7, "per day", $B14*Summary!$C$24, "-", "")*$D14) -> 0 | G14: =SUM(SWITCH($C14,"one time fee", $B14, "per person", sum($B14*G$7), "per night", $B14*Summary!$C$23, "per person per night", Summary!$C$23*$B14*G$7, "per day", $B14*Summary!$C$24, "-", "")*$D14) -> 0 | H14: =SUM(SWITCH($C14,"one time fee", $B14, "per person", sum($B14*H$7), "per night", $B14*Summary!$C$23, "per person per night", Summary!$C$23*$B14*H$7, "per day", $B14*Summary!$C$24, "-", "")*$D14) -> 0 | I14: =SUM(SWITCH($C14,"one time fee", $B14, "per person", sum($B14*I$7), "per night", $B14*Summary!$C$23, "per person per night", Summary!$C$23*$B14*I$7, "per day", $B14*Summary!$C$24, "-", "")*$D14) -> 0 | J14: =SUM(SWITCH($C14,"one time fee", $B14, "per person", sum($B14*J$7), "per night", $B14*Summary!$C$23, "per person per night", Summary!$C$23*$B14*J$7, "per day", $B14*Summary!$C$24, "-", "")*$D14) -> 0 | K14: =SUM(SWITCH($C14,"one time fee", $B14, "per person", sum($B14*K$7), "per night", $B14*Summary!$C$23, "per person per night", Summary!$C$23*$B14*K$7, "per day", $B14*Summary!$C$24, "-", "")*$D14) -> 0 | L14: =SUM(SWITCH($C14,"one time fee", $B14, "per person", sum($B14*L$7), "per night", $B14*Summary!$C$23, "per person per night", Summary!$C$23*$B14*L$7, "per day", $B14*Summary!$C$24, "-", "")*$D14) -> 0 | ... O14: =SUM(SWITCH($C14,"one time fee", $B14, "per person", sum($B14*O$7), "per night", $B14*Summary!$C$23, "per person per night", Summary!$C$23*$B14*O$7, "per day", $B14*Summary!$C$24, "-", "")*$D14) -> 0 | Q14: =SUM(SWITCH($C14,"one time fee", $B14, "per person", sum($B14*Q$7), "per night", $B14*Summary!$C$23, "per person per night", Summary!$C$23*$B14*Q$7, "per day", $B14*Summary!$C$24, "-", "")*$D14) -> 0 | R14: Get grants through SU funding or other schemes found
B15: 0 | C15: one time fee | D15: 1 | E15: =SUM(SWITCH($C15,"one time fee", $B15, "per person", sum($B15*E$7), "per night", $B15*Summary!$C$23, "per person per night", Summary!$C$23*$B15*E$7, "per day", $B15*Summary!$C$24, "-", "")*$D15) -> 0 | F15: =SUM(SWITCH($C15,"one time fee", $B15, "per person", sum($B15*F$7), "per night", $B15*Summary!$C$23, "per person per night", Summary!$C$23*$B15*F$7, "per day", $B15*Summary!$C$24, "-", "")*$D15) -> 0 | G15: =SUM(SWITCH($C15,"one time fee", $B15, "per person", sum($B15*G$7), "per night", $B15*Summary!$C$23, "per person per night", Summary!$C$23*$B15*G$7, "per day", $B15*Summary!$C$24, "-", "")*$D15) -> 0 | H15: =SUM(SWITCH($C15,"one time fee", $B15, "per person", sum($B15*H$7), "per night", $B15*Summary!$C$23, "per person per night", Summary!$C$23*$B15*H$7, "per day", $B15*Summary!$C$24, "-", "")*$D15) -> 0 | I15: =SUM(SWITCH($C15,"one time fee", $B15, "per person", sum($B15*I$7), "per night", $B15*Summary!$C$23, "per person per night", Summary!$C$23*$B15*I$7, "per day", $B15*Summary!$C$24, "-", "")*$D15) -> 0 | J15: =SUM(SWITCH($C15,"one time fee", $B15, "per person", sum($B15*J$7), "per night", $B15*Summary!$C$23, "per person per night", Summary!$C$23*$B15*J$7, "per day", $B15*Summary!$C$24, "-", "")*$D15) -> 0 | K15: =SUM(SWITCH($C15,"one time fee", $B15, "per person", sum($B15*K$7), "per night", $B15*Summary!$C$23, "per person per night", Summary!$C$23*$B15*K$7, "per day", $B15*Summary!$C$24, "-", "")*$D15) -> 0 | L15: =SUM(SWITCH($C15,"one time fee", $B15, "per person", sum($B15*L$7), "per night", $B15*Summary!$C$23, "per person per night", Summary!$C$23*$B15*L$7, "per day", $B15*Summary!$C$24, "-", "")*$D15) -> 0 | ... O15: =SUM(SWITCH($C15,"one time fee", $B15, "per person", sum($B15*O$7), "per night", $B15*Summary!$C$23, "per person per night", Summary!$C$23*$B15*O$7, "per day", $B15*Summary!$C$24, "-", "")*$D15) -> 0 | Q15: =SUM(SWITCH($C15,"one time fee", $B15, "per person", sum($B15*Q$7), "per night", $B15*Summary!$C$23, "per person per night", Summary!$C$23*$B15*Q$7, "per day", $B15*Summary!$C$24, "-", "")*$D15) -> 0
B16: 0 | C16: one time fee | D16: 1 | E16: =SUM(SWITCH($C16,"one time fee", $B16, "per person", sum($B16*E$7), "per night", $B16*Summary!$C$23, "per person per night", Summary!$C$23*$B16*E$7, "per day", $B16*Summary!$C$24, "-", "")*$D16) -> 0 | F16: =SUM(SWITCH($C16,"one time fee", $B16, "per person", sum($B16*F$7), "per night", $B16*Summary!$C$23, "per person per night", Summary!$C$23*$B16*F$7, "per day", $B16*Summary!$C$24, "-", "")*$D16) -> 0 | G16: =SUM(SWITCH($C16,"one time fee", $B16, "per person", sum($B16*G$7), "per night", $B16*Summary!$C$23, "per person per night", Summary!$C$23*$B16*G$7, "per day", $B16*Summary!$C$24, "-", "")*$D16) -> 0 | H16: =SUM(SWITCH($C16,"one time fee", $B16, "per person", sum($B16*H$7), "per night", $B16*Summary!$C$23, "per person per night", Summary!$C$23*$B16*H$7, "per day", $B16*Summary!$C$24, "-", "")*$D16) -> 0 | I16: =SUM(SWITCH($C16,"one time fee", $B16, "per person", sum($B16*I$7), "per night", $B16*Summary!$C$23, "per person per night", Summary!$C$23*$B16*I$7, "per day", $B16*Summary!$C$24, "-", "")*$D16) -> 0 | J16: =SUM(SWITCH($C16,"one time fee", $B16, "per person", sum($B16*J$7), "per night", $B16*Summary!$C$23, "per person per night", Summary!$C$23*$B16*J$7, "per day", $B16*Summary!$C$24, "-", "")*$D16) -> 0 | K16: =SUM(SWITCH($C16,"one time fee", $B16, "per person", sum($B16*K$7), "per night", $B16*Summary!$C$23, "per person per night", Summary!$C$23*$B16*K$7, "per day", $B16*Summary!$C$24, "-", "")*$D16) -> 0 | L16: =SUM(SWITCH($C16,"one time fee", $B16, "per person", sum($B16*L$7), "per night", $B16*Summary!$C$23, "per person per night", Summary!$C$23*$B16*L$7, "per day", $B16*Summary!$C$24, "-", "")*$D16) -> 0 | ... O16: =SUM(SWITCH($C16,"one time fee", $B16, "per person", sum($B16*O$7), "per night", $B16*Summary!$C$23, "per person per night", Summary!$C$23*$B16*O$7, "per day", $B16*Summary!$C$24, "-", "")*$D16) -> 0 | Q16: =SUM(SWITCH($C16,"one time fee", $B16, "per person", sum($B16*Q$7), "per night", $B16*Summary!$C$23, "per person per night", Summary!$C$23*$B16*Q$7, "per day", $B16*Summary!$C$24, "-", "")*$D16) -> 0
B17: 0 | C17: one time fee | D17: 1 | E17: =SUM(SWITCH($C17,"one time fee", $B17, "per person", sum($B17*E$7), "per night", $B17*Summary!$C$23, "per person per night", Summary!$C$23*$B17*E$7, "per day", $B17*Summary!$C$24, "-", "")*$D17) -> 0 | F17: =SUM(SWITCH($C17,"one time fee", $B17, "per person", sum($B17*F$7), "per night", $B17*Summary!$C$23, "per person per night", Summary!$C$23*$B17*F$7, "per day", $B17*Summary!$C$24, "-", "")*$D17) -> 0 | G17: =SUM(SWITCH($C17,"one time fee", $B17, "per person", sum($B17*G$7), "per night", $B17*Summary!$C$23, "per person per night", Summary!$C$23*$B17*G$7, "per day", $B17*Summary!$C$24, "-", "")*$D17) -> 0 | H17: =SUM(SWITCH($C17,"one time fee", $B17, "per person", sum($B17*H$7), "per night", $B17*Summary!$C$23, "per person per night", Summary!$C$23*$B17*H$7, "per day", $B17*Summary!$C$24, "-", "")*$D17) -> 0 | I17: =SUM(SWITCH($C17,"one time fee", $B17, "per person", sum($B17*I$7), "per night", $B17*Summary!$C$23, "per person per night", Summary!$C$23*$B17*I$7, "per day", $B17*Summary!$C$24, "-", "")*$D17) -> 0 | J17: =SUM(SWITCH($C17,"one time fee", $B17, "per person", sum($B17*J$7), "per night", $B17*Summary!$C$23, "per person per night", Summary!$C$23*$B17*J$7, "per day", $B17*Summary!$C$24, "-", "")*$D17) -> 0 | K17: =SUM(SWITCH($C17,"one time fee", $B17, "per person", sum($B17*K$7), "per night", $B17*Summary!$C$23, "per person per night", Summary!$C$23*$B17*K$7, "per day", $B17*Summary!$C$24, "-", "")*$D17) -> 0 | L17: =SUM(SWITCH($C17,"one time fee", $B17, "per person", sum($B17*L$7), "per night", $B17*Summary!$C$23, "per person per night", Summary!$C$23*$B17*L$7, "per day", $B17*Summary!$C$24, "-", "")*$D17) -> 0 | ... O17: =SUM(SWITCH($C17,"one time fee", $B17, "per person", sum($B17*O$7), "per night", $B17*Summary!$C$23, "per person per night", Summary!$C$23*$B17*O$7, "per day", $B17*Summary!$C$24, "-", "")*$D17) -> 0 | Q17: =SUM(SWITCH($C17,"one time fee", $B17, "per person", sum($B17*Q$7), "per night", $B17*Summary!$C$23, "per person per night", Summary!$C$23*$B17*Q$7, "per day", $B17*Summary!$C$24, "-", "")*$D17) -> 0
A18: Loan Installment | B18: 0 | C18: - | E18: =SWITCH($C18,"one time fee", $B18, "per person", sum($B18*E$7), "per night", $B18*Summary!$C$23, "per person per night", Summary!$C$23*$B18*E$7, "per day", $B18*Summary!$C$24, "-", 0) -> 0 | F18: =SWITCH($C18,"one time fee", $B18, "per person", sum($B18*F$7), "per night", $B18*Summary!$C$23, "per person per night", Summary!$C$23*$B18*F$7, "per day", $B18*Summary!$C$24, "-", 0) -> 0 | G18: =SWITCH($C18,"one time fee", $B18, "per person", sum($B18*G$7), "per night", $B18*Summary!$C$23, "per person per night", Summary!$C$23*$B18*G$7, "per day", $B18*Summary!$C$24, "-", 0) -> 0 | H18: =SWITCH($C18,"one time fee", $B18, "per person", sum($B18*H$7), "per night", $B18*Summary!$C$23, "per person per night", Summary!$C$23*$B18*H$7, "per day", $B18*Summary!$C$24, "-", 0) -> 0 | I18: =SWITCH($C18,"one time fee", $B18, "per person", sum($B18*I$7), "per night", $B18*Summary!$C$23, "per person per night", Summary!$C$23*$B18*I$7, "per day", $B18*Summary!$C$24, "-", 0) -> 0 | O18: =SWITCH($C18,"one time fee", $B18, "per person", sum($B18*O$7), "per night", $B18*Summary!$C$23, "per person per night", Summary!$C$23*$B18*O$7, "per day", $B18*Summary!$C$24, "-", 0) -> 0 | Q18: =SWITCH($C18,"one time fee", $B18, "per person", sum($B18*Q$7), "per night", $B18*Summary!$C$23, "per person per night", Summary!$C$23*$B18*Q$7, "per day", $B18*Summary!$C$24, "-", 0) -> 0
A19: - | B19: 0 | C19: - | E19: =SWITCH($C19,"one time fee", $B19, "per person", sum($B19*E$7), "per night", $B19*Summary!$C$23, "per person per night", Summary!$C$23*$B19*E$7, "per day", $B19*Summary!$C$24, "-", 0) -> 0 | F19: =SWITCH($C19,"one time fee", $B19, "per person", sum($B19*F$7), "per night", $B19*Summary!$C$23, "per person per night", Summary!$C$23*$B19*F$7, "per day", $B19*Summary!$C$24, "-", 0) -> 0 | G19: =SWITCH($C19,"one time fee", $B19, "per person", sum($B19*G$7), "per night", $B19*Summary!$C$23, "per person per night", Summary!$C$23*$B19*G$7, "per day", $B19*Summary!$C$24, "-", 0) -> 0 | H19: =SWITCH($C19,"one time fee", $B19, "per person", sum($B19*H$7), "per night", $B19*Summary!$C$23, "per person per night", Summary!$C$23*$B19*H$7, "per day", $B19*Summary!$C$24, "-", 0) -> 0 | I19: =SWITCH($C19,"one time fee", $B19, "per person", sum($B19*I$7), "per night", $B19*Summary!$C$23, "per person per night", Summary!$C$23*$B19*I$7, "per day", $B19*Summary!$C$24, "-", 0) -> 0 | O19: =SWITCH($C19,"one time fee", $B19, "per person", sum($B19*O$7), "per night", $B19*Summary!$C$23, "per person per night", Summary!$C$23*$B19*O$7, "per day", $B19*Summary!$C$24, "-", 0) -> 0 | Q19: =SWITCH($C19,"one time fee", $B19, "per person", sum($B19*Q$7), "per night", $B19*Summary!$C$23, "per person per night", Summary!$C$23*$B19*Q$7, "per day", $B19*Summary!$C$24, "-", 0) -> 0
A21: Expenditure | E21: Enter any fixed and variable costs you expect to be getting for your event. For example transport hire fees or indoor accommodation charges. Once the fee is entered, the sheet will automatically calculate the total expense dependent on the unit specified.
A22: Item | B22: Cost | C22: Unit | D22: Percentage | E22: Number of Paying Attendees | Q22: Actual Paid Attendees | R22: Notes
E23: =Summary!D5 -> 100 | F23: =Summary!E5 -> 115 | G23: =Summary!F5 -> 130 | H23: =Summary!G5 -> 145 | I23: =Summary!H5 -> 160 | J23: =Summary!I5 -> 175 | K23: =Summary!J5 -> 190 | L23: =Summary!K5 -> 205 | ... O23: =Summary!N5 -> 250 | Q23: =Summary!P5 -> 204
A24: Campsite Buildings | B24: 20 | C24: one time fee | D24: 1 | E24: =SUM(SWITCH($C24,"one time fee", $B24, "per person", sum($B24*E$23), "per night", $B24*Summary!$C$23, "per person per night", Summary!$C$23*$B24*E$23, "per day", $B24*Summary!$C$24, "-", "")*$D24) -> 20 | F24: =SUM(SWITCH($C24,"one time fee", $B24, "per person", sum($B24*F$23), "per night", $B24*Summary!$C$23, "per person per night", Summary!$C$23*$B24*F$23, "per day", $B24*Summary!$C$24, "-", "")*$D24) -> 20 | G24: =SUM(SWITCH($C24,"one time fee", $B24, "per person", sum($B24*G$23), "per night", $B24*Summary!$C$23, "per person per night", Summary!$C$23*$B24*G$23, "per day", $B24*Summary!$C$24, "-", "")*$D24) -> 20 | H24: =SUM(SWITCH($C24,"one time fee", $B24, "per person", sum($B24*H$23), "per night", $B24*Summary!$C$23, "per person per night", Summary!$C$23*$B24*H$23, "per day", $B24*Summary!$C$24, "-", "")*$D24) -> 20 | I24: =SUM(SWITCH($C24,"one time fee", $B24, "per person", sum($B24*I$23), "per night", $B24*Summary!$C$23, "per person per night", Summary!$C$23*$B24*I$23, "per day", $B24*Summary!$C$24, "-", "")*$D24) -> 20 | J24: =SUM(SWITCH($C24,"one time fee", $B24, "per person", sum($B24*J$23), "per night", $B24*Summary!$C$23, "per person per night", Summary!$C$23*$B24*J$23, "per day", $B24*Summary!$C$24, "-", "")*$D24) -> 20 | K24: =SUM(SWITCH($C24,"one time fee", $B24, "per person", sum($B24*K$23), "per night", $B24*Summary!$C$23, "per person per night", Summary!$C$23*$B24*K$23, "per day", $B24*Summary!$C$24, "-", "")*$D24) -> 20 | L24: =SUM(SWITCH($C24,"one time fee", $B24, "per person", sum($B24*L$23), "per night", $B24*Summary!$C$23, "per person per night", Summary!$C$23*$B24*L$23, "per day", $B24*Summary!$C$24, "-", "")*$D24) -> 20 | ... O24: =SUM(SWITCH($C24,"one time fee", $B24, "per person", sum($B24*O$23), "per night", $B24*Summary!$C$23, "per person per night", Summary!$C$23*$B24*O$23, "per day", $B24*Summary!$C$24, "-", "")*$D24) -> 20 | Q24: =SUM(SWITCH($C24,"one time fee", $B24, "per person", sum($B24*Q$23), "per night", $B24*Summary!$C$23, "per person per night", Summary!$C$23*$B24*Q$23, "per day", $B24*Summary!$C$24, "-", "")*$D24) -> 20
A25: Coach Hire | B25: 2000 | C25: one time fee | D25: 1 | E25: =SUM(SWITCH($C25,"one time fee", $B25, "per person", sum($B25*E$23), "per night", $B25*Summary!$C$23, "per person per night", Summary!$C$23*$B25*E$23, "per day", $B25*Summary!$C$24, "-", "")*$D25) -> 2000 | F25: =SUM(SWITCH($C25,"one time fee", $B25, "per person", sum($B25*F$23), "per night", $B25*Summary!$C$23, "per person per night", Summary!$C$23*$B25*F$23, "per day", $B25*Summary!$C$24, "-", "")*$D25) -> 2000 | G25: =SUM(SWITCH($C25,"one time fee", $B25, "per person", sum($B25*G$23), "per night", $B25*Summary!$C$23, "per person per night", Summary!$C$23*$B25*G$23, "per day", $B25*Summary!$C$24, "-", "")*$D25) -> 2000 | H25: =SUM(SWITCH($C25,"one time fee", $B25, "per person", sum($B25*H$23), "per night", $B25*Summary!$C$23, "per person per night", Summary!$C$23*$B25*H$23, "per day", $B25*Summary!$C$24, "-", "")*$D25) -> 2000 | I25: =SUM(SWITCH($C25,"one time fee", $B25, "per person", sum($B25*I$23), "per night", $B25*Summary!$C$23, "per person per night", Summary!$C$23*$B25*I$23, "per day", $B25*Summary!$C$24, "-", "")*$D25) -> 2000 | J25: =SUM(SWITCH($C25,"one time fee", $B25, "per person", sum($B25*J$23), "per night", $B25*Summary!$C$23, "per person per night", Summary!$C$23*$B25*J$23, "per day", $B25*Summary!$C$24, "-", "")*$D25) -> 2000 | K25: =SUM(SWITCH($C25,"one time fee", $B25, "per person", sum($B25*K$23), "per night", $B25*Summary!$C$23, "per person per night", Summary!$C$23*$B25*K$23, "per day", $B25*Summary!$C$24, "-", "")*$D25) -> 2000 | L25: =SUM(SWITCH($C25,"one time fee", $B25, "per person", sum($B25*L$23), "per night", $B25*Summary!$C$23, "per person per night", Summary!$C$23*$B25*L$23, "per day", $B25*Summary!$C$24, "-", "")*$D25) -> 2000 | ... O25: =SUM(SWITCH($C25,"one time fee", $B25, "per person", sum($B25*O$23), "per night", $B25*Summary!$C$23, "per person per night", Summary!$C$23*$B25*O$23, "per day", $B25*Summary!$C$24, "-", "")*$D25) -> 2000 | Q25: =SUM(SWITCH($C25,"one time fee", $B25, "per person", sum($B25*Q$23), "per night", $B25*Summary!$C$23, "per person per night", Summary!$C$23*$B25*Q$23, "per day", $B25*Summary!$C$24, "-", "")*$D25) -> 2000
A26: Minibus Hire | B26: 345 | C26: one time fee | D26: 1 | E26: =SUM(SWITCH($C26,"one time fee", $B26, "per person", sum($B26*E$23), "per night", $B26*Summary!$C$23, "per person per night", Summary!$C$23*$B26*E$23, "per day", $B26*Summary!$C$24, "-", "")*$D26) -> 345 | F26: =SUM(SWITCH($C26,"one time fee", $B26, "per person", sum($B26*F$23), "per night", $B26*Summary!$C$23, "per person per night", Summary!$C$23*$B26*F$23, "per day", $B26*Summary!$C$24, "-", "")*$D26) -> 345 | G26: =SUM(SWITCH($C26,"one time fee", $B26, "per person", sum($B26*G$23), "per night", $B26*Summary!$C$23, "per person per night", Summary!$C$23*$B26*G$23, "per day", $B26*Summary!$C$24, "-", "")*$D26) -> 345 | H26: =SUM(SWITCH($C26,"one time fee", $B26, "per person", sum($B26*H$23), "per night", $B26*Summary!$C$23, "per person per night", Summary!$C$23*$B26*H$23, "per day", $B26*Summary!$C$24, "-", "")*$D26) -> 345 | I26: =SUM(SWITCH($C26,"one time fee", $B26, "per person", sum($B26*I$23), "per night", $B26*Summary!$C$23, "per person per night", Summary!$C$23*$B26*I$23, "per day", $B26*Summary!$C$24, "-", "")*$D26) -> 345 | J26: =SUM(SWITCH($C26,"one time fee", $B26, "per person", sum($B26*J$23), "per night", $B26*Summary!$C$23, "per person per night", Summary!$C$23*$B26*J$23, "per day", $B26*Summary!$C$24, "-", "")*$D26) -> 345 | K26: =SUM(SWITCH($C26,"one time fee", $B26, "per person", sum($B26*K$23), "per night", $B26*Summary!$C$23, "per person per night", Summary!$C$23*$B26*K$23, "per day", $B26*Summary!$C$24, "-", "")*$D26) -> 345 | L26: =SUM(SWITCH($C26,"one time fee", $B26, "per person", sum($B26*L$23), "per night", $B26*Summary!$C$23, "per person per night", Summary!$C$23*$B26*L$23, "per day", $B26*Summary!$C$24, "-", "")*$D26) -> 345 | ... O26: =SUM(SWITCH($C26,"one time fee", $B26, "per person", sum($B26*O$23), "per night", $B26*Summary!$C$23, "per person per night", Summary!$C$23*$B26*O$23, "per day", $B26*Summary!$C$24, "-", "")*$D26) -> 345 | Q26: =SUM(SWITCH($C26,"one time fee", $B26, "per person", sum($B26*Q$23), "per night", $B26*Summary!$C$23, "per person per night", Summary!$C$23*$B26*Q$23, "per day", $B26*Summary!$C$24, "-", "")*$D26) -> 345
A27: Ceileigh | B27: 300 | C27: one time fee | D27: 1 | E27: =SUM(SWITCH($C27,"one time fee", $B27, "per person", sum($B27*E$23), "per night", $B27*Summary!$C$23, "per person per night", Summary!$C$23*$B27*E$23, "per day", $B27*Summary!$C$24, "-", "")*$D27) -> 300 | F27: =SUM(SWITCH($C27,"one time fee", $B27, "per person", sum($B27*F$23), "per night", $B27*Summary!$C$23, "per person per night", Summary!$C$23*$B27*F$23, "per day", $B27*Summary!$C$24, "-", "")*$D27) -> 300 | G27: =SUM(SWITCH($C27,"one time fee", $B27, "per person", sum($B27*G$23), "per night", $B27*Summary!$C$23, "per person per night", Summary!$C$23*$B27*G$23, "per day", $B27*Summary!$C$24, "-", "")*$D27) -> 300 | H27: =SUM(SWITCH($C27,"one time fee", $B27, "per person", sum($B27*H$23), "per night", $B27*Summary!$C$23, "per person per night", Summary!$C$23*$B27*H$23, "per day", $B27*Summary!$C$24, "-", "")*$D27) -> 300 | I27: =SUM(SWITCH($C27,"one time fee", $B27, "per person", sum($B27*I$23), "per night", $B27*Summary!$C$23, "per person per night", Summary!$C$23*$B27*I$23, "per day", $B27*Summary!$C$24, "-", "")*$D27) -> 300 | J27: =SUM(SWITCH($C27,"one time fee", $B27, "per person", sum($B27*J$23), "per night", $B27*Summary!$C$23, "per person per night", Summary!$C$23*$B27*J$23, "per day", $B27*Summary!$C$24, "-", "")*$D27) -> 300 | K27: =SUM(SWITCH($C27,"one time fee", $B27, "per person", sum($B27*K$23), "per night", $B27*Summary!$C$23, "per person per night", Summary!$C$23*$B27*K$23, "per day", $B27*Summary!$C$24, "-", "")*$D27) -> 300 | L27: =SUM(SWITCH($C27,"one time fee", $B27, "per person", sum($B27*L$23), "per night", $B27*Summary!$C$23, "per person per night", Summary!$C$23*$B27*L$23, "per day", $B27*Summary!$C$24, "-", "")*$D27) -> 300 | ... O27: =SUM(SWITCH($C27,"one time fee", $B27, "per person", sum($B27*O$23), "per night", $B27*Summary!$C$23, "per person per night", Summary!$C$23*$B27*O$23, "per day", $B27*Summary!$C$24, "-", "")*$D27) -> 300 | Q27: =SUM(SWITCH($C27,"one time fee", $B27, "per person", sum($B27*Q$23), "per night", $B27*Summary!$C$23, "per person per night", Summary!$C$23*$B27*Q$23, "per day", $B27*Summary!$C$24, "-", "")*$D27) -> 300
A28: Silent Disco | B28: 384 | C28: one time fee | D28: 1 | E28: =SUM(SWITCH($C28,"one time fee", $B28, "per person", sum($B28*E$23), "per night", $B28*Summary!$C$23, "per person per night", Summary!$C$23*$B28*E$23, "per day", $B28*Summary!$C$24, "-", "")*$D28) -> 384 | F28: =SUM(SWITCH($C28,"one time fee", $B28, "per person", sum($B28*F$23), "per night", $B28*Summary!$C$23, "per person per night", Summary!$C$23*$B28*F$23, "per day", $B28*Summary!$C$24, "-", "")*$D28) -> 384 | G28: =SUM(SWITCH($C28,"one time fee", $B28, "per person", sum($B28*G$23), "per night", $B28*Summary!$C$23, "per person per night", Summary!$C$23*$B28*G$23, "per day", $B28*Summary!$C$24, "-", "")*$D28) -> 384 | H28: =SUM(SWITCH($C28,"one time fee", $B28, "per person", sum($B28*H$23), "per night", $B28*Summary!$C$23, "per person per night", Summary!$C$23*$B28*H$23, "per day", $B28*Summary!$C$24, "-", "")*$D28) -> 384 | I28: =SUM(SWITCH($C28,"one time fee", $B28, "per person", sum($B28*I$23), "per night", $B28*Summary!$C$23, "per person per night", Summary!$C$23*$B28*I$23, "per day", $B28*Summary!$C$24, "-", "")*$D28) -> 384 | J28: =SUM(SWITCH($C28,"one time fee", $B28, "per person", sum($B28*J$23), "per night", $B28*Summary!$C$23, "per person per night", Summary!$C$23*$B28*J$23, "per day", $B28*Summary!$C$24, "-", "")*$D28) -> 384 | K28: =SUM(SWITCH($C28,"one time fee", $B28, "per person", sum($B28*K$23), "per night", $B28*Summary!$C$23, "per person per night", Summary!$C$23*$B28*K$23, "per day", $B28*Summary!$C$24, "-", "")*$D28) -> 384 | L28: =SUM(SWITCH($C28,"one time fee", $B28, "per person", sum($B28*L$23), "per night", $B28*Summary!$C$23, "per person per night", Summary!$C$23*$B28*L$23, "per day", $B28*Summary!$C$24, "-", "")*$D28) -> 384 | ... O28: =SUM(SWITCH($C28,"one time fee", $B28, "per person", sum($B28*O$23), "per night", $B28*Summary!$C$23, "per person per night", Summary!$C$23*$B28*O$23, "per day", $B28*Summary!$C$24, "-", "")*$D28) -> 384 | Q28: =SUM(SWITCH($C28,"one time fee", $B28, "per person", sum($B28*Q$23), "per night", $B28*Summary!$C$23, "per person per night", Summary!$C$23*$B28*Q$23, "per day", $B28*Summary!$C$24, "-", "")*$D28) -> 384
B29: 0 | C29: - | D29: 1 | E29: =SUM(SWITCH($C29,"one time fee", $B29, "per person", sum($B29*E$23), "per night", $B29*Summary!$C$23, "per person per night", Summary!$C$23*$B29*E$23, "per day", $B29*Summary!$C$24, "-", "")*$D29) -> 0 | F29: =SUM(SWITCH($C29,"one time fee", $B29, "per person", sum($B29*F$23), "per night", $B29*Summary!$C$23, "per person per night", Summary!$C$23*$B29*F$23, "per day", $B29*Summary!$C$24, "-", "")*$D29) -> 0 | G29: =SUM(SWITCH($C29,"one time fee", $B29, "per person", sum($B29*G$23), "per night", $B29*Summary!$C$23, "per person per night", Summary!$C$23*$B29*G$23, "per day", $B29*Summary!$C$24, "-", "")*$D29) -> 0 | H29: =SUM(SWITCH($C29,"one time fee", $B29, "per person", sum($B29*H$23), "per night", $B29*Summary!$C$23, "per person per night", Summary!$C$23*$B29*H$23, "per day", $B29*Summary!$C$24, "-", "")*$D29) -> 0 | I29: =SUM(SWITCH($C29,"one time fee", $B29, "per person", sum($B29*I$23), "per night", $B29*Summary!$C$23, "per person per night", Summary!$C$23*$B29*I$23, "per day", $B29*Summary!$C$24, "-", "")*$D29) -> 0 | J29: =SUM(SWITCH($C29,"one time fee", $B29, "per person", sum($B29*J$23), "per night", $B29*Summary!$C$23, "per person per night", Summary!$C$23*$B29*J$23, "per day", $B29*Summary!$C$24, "-", "")*$D29) -> 0 | K29: =SUM(SWITCH($C29,"one time fee", $B29, "per person", sum($B29*K$23), "per night", $B29*Summary!$C$23, "per person per night", Summary!$C$23*$B29*K$23, "per day", $B29*Summary!$C$24, "-", "")*$D29) -> 0 | L29: =SUM(SWITCH($C29,"one time fee", $B29, "per person", sum($B29*L$23), "per night", $B29*Summary!$C$23, "per person per night", Summary!$C$23*$B29*L$23, "per day", $B29*Summary!$C$24, "-", "")*$D29) -> 0 | ... O29: =SUM(SWITCH($C29,"one time fee", $B29, "per person", sum($B29*O$23), "per night", $B29*Summary!$C$23, "per person per night", Summary!$C$23*$B29*O$23, "per day", $B29*Summary!$C$24, "-", "")*$D29) -> 0 | Q29: =SUM(SWITCH($C29,"one time fee", $B29, "per person", sum($B29*Q$23), "per night", $B29*Summary!$C$23, "per person per night", Summary!$C$23*$B29*Q$23, "per day", $B29*Summary!$C$24, "-", "")*$D29) -> 0
A30: Badges | B30: 592 | C30: one time fee | D30: 1 | E30: =SUM(SWITCH($C30,"one time fee", $B30, "per person", sum($B30*E$23), "per night", $B30*Summary!$C$23, "per person per night", Summary!$C$23*$B30*E$23, "per day", $B30*Summary!$C$24, "-", "")*$D30) -> 592 | F30: =SUM(SWITCH($C30,"one time fee", $B30, "per person", sum($B30*F$23), "per night", $B30*Summary!$C$23, "per person per night", Summary!$C$23*$B30*F$23, "per day", $B30*Summary!$C$24, "-", "")*$D30) -> 592 | G30: =SUM(SWITCH($C30,"one time fee", $B30, "per person", sum($B30*G$23), "per night", $B30*Summary!$C$23, "per person per night", Summary!$C$23*$B30*G$23, "per day", $B30*Summary!$C$24, "-", "")*$D30) -> 592 | H30: =SUM(SWITCH($C30,"one time fee", $B30, "per person", sum($B30*H$23), "per night", $B30*Summary!$C$23, "per person per night", Summary!$C$23*$B30*H$23, "per day", $B30*Summary!$C$24, "-", "")*$D30) -> 592 | I30: =SUM(SWITCH($C30,"one time fee", $B30, "per person", sum($B30*I$23), "per night", $B30*Summary!$C$23, "per person per night", Summary!$C$23*$B30*I$23, "per day", $B30*Summary!$C$24, "-", "")*$D30) -> 592 | J30: =SUM(SWITCH($C30,"one time fee", $B30, "per person", sum($B30*J$23), "per night", $B30*Summary!$C$23, "per person per night", Summary!$C$23*$B30*J$23, "per day", $B30*Summary!$C$24, "-", "")*$D30) -> 592 | K30: =SUM(SWITCH($C30,"one time fee", $B30, "per person", sum($B30*K$23), "per night", $B30*Summary!$C$23, "per person per night", Summary!$C$23*$B30*K$23, "per day", $B30*Summary!$C$24, "-", "")*$D30) -> 592 | L30: =SUM(SWITCH($C30,"one time fee", $B30, "per person", sum($B30*L$23), "per night", $B30*Summary!$C$23, "per person per night", Summary!$C$23*$B30*L$23, "per day", $B30*Summary!$C$24, "-", "")*$D30) -> 592 | ... O30: =SUM(SWITCH($C30,"one time fee", $B30, "per person", sum($B30*O$23), "per night", $B30*Summary!$C$23, "per person per night", Summary!$C$23*$B30*O$23, "per day", $B30*Summary!$C$24, "-", "")*$D30) -> 592 | Q30: =SUM(SWITCH($C30,"one time fee", $B30, "per person", sum($B30*Q$23), "per night", $B30*Summary!$C$23, "per person per night", Summary!$C$23*$B30*Q$23, "per day", $B30*Summary!$C$24, "-", "")*$D30) -> 592
A31: Neckers | B31: 465 | C31: one time fee | D31: 1 | E31: =SUM(SWITCH($C31,"one time fee", $B31, "per person", sum($B31*E$23), "per night", $B31*Summary!$C$23, "per person per night", Summary!$C$23*$B31*E$23, "per day", $B31*Summary!$C$24, "-", "")*$D31) -> 465 | F31: =SUM(SWITCH($C31,"one time fee", $B31, "per person", sum($B31*F$23), "per night", $B31*Summary!$C$23, "per person per night", Summary!$C$23*$B31*F$23, "per day", $B31*Summary!$C$24, "-", "")*$D31) -> 465 | G31: =SUM(SWITCH($C31,"one time fee", $B31, "per person", sum($B31*G$23), "per night", $B31*Summary!$C$23, "per person per night", Summary!$C$23*$B31*G$23, "per day", $B31*Summary!$C$24, "-", "")*$D31) -> 465 | H31: =SUM(SWITCH($C31,"one time fee", $B31, "per person", sum($B31*H$23), "per night", $B31*Summary!$C$23, "per person per night", Summary!$C$23*$B31*H$23, "per day", $B31*Summary!$C$24, "-", "")*$D31) -> 465 | I31: =SUM(SWITCH($C31,"one time fee", $B31, "per person", sum($B31*I$23), "per night", $B31*Summary!$C$23, "per person per night", Summary!$C$23*$B31*I$23, "per day", $B31*Summary!$C$24, "-", "")*$D31) -> 465 | J31: =SUM(SWITCH($C31,"one time fee", $B31, "per person", sum($B31*J$23), "per night", $B31*Summary!$C$23, "per person per night", Summary!$C$23*$B31*J$23, "per day", $B31*Summary!$C$24, "-", "")*$D31) -> 465 | K31: =SUM(SWITCH($C31,"one time fee", $B31, "per person", sum($B31*K$23), "per night", $B31*Summary!$C$23, "per person per night", Summary!$C$23*$B31*K$23, "per day", $B31*Summary!$C$24, "-", "")*$D31) -> 465 | L31: =SUM(SWITCH($C31,"one time fee", $B31, "per person", sum($B31*L$23), "per night", $B31*Summary!$C$23, "per person per night", Summary!$C$23*$B31*L$23, "per day", $B31*Summary!$C$24, "-", "")*$D31) -> 465 | ... O31: =SUM(SWITCH($C31,"one time fee", $B31, "per person", sum($B31*O$23), "per night", $B31*Summary!$C$23, "per person per night", Summary!$C$23*$B31*O$23, "per day", $B31*Summary!$C$24, "-", "")*$D31) -> 465 | Q31: =SUM(SWITCH($C31,"one time fee", $B31, "per person", sum($B31*Q$23), "per night", $B31*Summary!$C$23, "per person per night", Summary!$C$23*$B31*Q$23, "per day", $B31*Summary!$C$24, "-", "")*$D31) -> 465
B32: 0 | C32: - | D32: 1 | E32: =SUM(SWITCH($C32,"one time fee", $B32, "per person", sum($B32*E$23), "per night", $B32*Summary!$C$23, "per person per night", Summary!$C$23*$B32*E$23, "per day", $B32*Summary!$C$24, "-", "")*$D32) -> 0 | F32: =SUM(SWITCH($C32,"one time fee", $B32, "per person", sum($B32*F$23), "per night", $B32*Summary!$C$23, "per person per night", Summary!$C$23*$B32*F$23, "per day", $B32*Summary!$C$24, "-", "")*$D32) -> 0 | G32: =SUM(SWITCH($C32,"one time fee", $B32, "per person", sum($B32*G$23), "per night", $B32*Summary!$C$23, "per person per night", Summary!$C$23*$B32*G$23, "per day", $B32*Summary!$C$24, "-", "")*$D32) -> 0 | H32: =SUM(SWITCH($C32,"one time fee", $B32, "per person", sum($B32*H$23), "per night", $B32*Summary!$C$23, "per person per night", Summary!$C$23*$B32*H$23, "per day", $B32*Summary!$C$24, "-", "")*$D32) -> 0 | I32: =SUM(SWITCH($C32,"one time fee", $B32, "per person", sum($B32*I$23), "per night", $B32*Summary!$C$23, "per person per night", Summary!$C$23*$B32*I$23, "per day", $B32*Summary!$C$24, "-", "")*$D32) -> 0 | J32: =SUM(SWITCH($C32,"one time fee", $B32, "per person", sum($B32*J$23), "per night", $B32*Summary!$C$23, "per person per night", Summary!$C$23*$B32*J$23, "per day", $B32*Summary!$C$24, "-", "")*$D32) -> 0 | K32: =SUM(SWITCH($C32,"one time fee", $B32, "per person", sum($B32*K$23), "per night", $B32*Summary!$C$23, "per person per night", Summary!$C$23*$B32*K$23, "per day", $B32*Summary!$C$24, "-", "")*$D32) -> 0 | L32: =SUM(SWITCH($C32,"one time fee", $B32, "per person", sum($B32*L$23), "per night", $B32*Summary!$C$23, "per person per night", Summary!$C$23*$B32*L$23, "per day", $B32*Summary!$C$24, "-", "")*$D32) -> 0 | ... O32: =SUM(SWITCH($C32,"one time fee", $B32, "per person", sum($B32*O$23), "per night", $B32*Summary!$C$23, "per person per night", Summary!$C$23*$B32*O$23, "per day", $B32*Summary!$C$24, "-", "")*$D32) -> 0 | Q32: =SUM(SWITCH($C32,"one time fee", $B32, "per person", sum($B32*Q$23), "per night", $B32*Summary!$C$23, "per person per night", Summary!$C$23*$B32*Q$23, "per day", $B32*Summary!$C$24, "-", "")*$D32) -> 0
A33: Food | B33: 3.5 | C33: per person per night | D33: 1 | E33: =SUM(SWITCH($C33,"one time fee", $B33, "per person", sum($B33*E$23), "per night", $B33*Summary!$C$23, "per person per night", Summary!$C$23*$B33*E$23, "per day", $B33*Summary!$C$24, "-", "")*$D33) -> 700 | F33: =SUM(SWITCH($C33,"one time fee", $B33, "per person", sum($B33*F$23), "per night", $B33*Summary!$C$23, "per person per night", Summary!$C$23*$B33*F$23, "per day", $B33*Summary!$C$24, "-", "")*$D33) -> 805 | G33: =SUM(SWITCH($C33,"one time fee", $B33, "per person", sum($B33*G$23), "per night", $B33*Summary!$C$23, "per person per night", Summary!$C$23*$B33*G$23, "per day", $B33*Summary!$C$24, "-", "")*$D33) -> 910 | H33: =SUM(SWITCH($C33,"one time fee", $B33, "per person", sum($B33*H$23), "per night", $B33*Summary!$C$23, "per person per night", Summary!$C$23*$B33*H$23, "per day", $B33*Summary!$C$24, "-", "")*$D33) -> 1015 | I33: =SUM(SWITCH($C33,"one time fee", $B33, "per person", sum($B33*I$23), "per night", $B33*Summary!$C$23, "per person per night", Summary!$C$23*$B33*I$23, "per day", $B33*Summary!$C$24, "-", "")*$D33) -> 1120 | J33: =SUM(SWITCH($C33,"one time fee", $B33, "per person", sum($B33*J$23), "per night", $B33*Summary!$C$23, "per person per night", Summary!$C$23*$B33*J$23, "per day", $B33*Summary!$C$24, "-", "")*$D33) -> 1225 | K33: =SUM(SWITCH($C33,"one time fee", $B33, "per person", sum($B33*K$23), "per night", $B33*Summary!$C$23, "per person per night", Summary!$C$23*$B33*K$23, "per day", $B33*Summary!$C$24, "-", "")*$D33) -> 1330 | L33: =SUM(SWITCH($C33,"one time fee", $B33, "per person", sum($B33*L$23), "per night", $B33*Summary!$C$23, "per person per night", Summary!$C$23*$B33*L$23, "per day", $B33*Summary!$C$24, "-", "")*$D33) -> 1435 | ... O33: =SUM(SWITCH($C33,"one time fee", $B33, "per person", sum($B33*O$23), "per night", $B33*Summary!$C$23, "per person per night", Summary!$C$23*$B33*O$23, "per day", $B33*Summary!$C$24, "-", "")*$D33) -> 1750 | Q33: =SUM(SWITCH($C33,"one time fee", $B33, "per person", sum($B33*Q$23), "per night", $B33*Summary!$C$23, "per person per night", Summary!$C$23*$B33*Q$23, "per day", $B33*Summary!$C$24, "-", "")*$D33) -> 1428 | R33: This is a standard minimum charge of £7 per person over a weekend at rallies
A34: Camping Fees | B34: 0 | C34: per person | D34: 1 | E34: =SUM(SWITCH($C34,"one time fee", $B34, "per person", sum($B34*E$23), "per night", $B34*Summary!$C$23, "per person per night", Summary!$C$23*$B34*E$23, "per day", $B34*Summary!$C$24, "-", "")*$D34) -> 0 | F34: =SUM(SWITCH($C34,"one time fee", $B34, "per person", sum($B34*F$23), "per night", $B34*Summary!$C$23, "per person per night", Summary!$C$23*$B34*F$23, "per day", $B34*Summary!$C$24, "-", "")*$D34) -> 0 | G34: =SUM(SWITCH($C34,"one time fee", $B34, "per person", sum($B34*G$23), "per night", $B34*Summary!$C$23, "per person per night", Summary!$C$23*$B34*G$23, "per day", $B34*Summary!$C$24, "-", "")*$D34) -> 0 | H34: =SUM(SWITCH($C34,"one time fee", $B34, "per person", sum($B34*H$23), "per night", $B34*Summary!$C$23, "per person per night", Summary!$C$23*$B34*H$23, "per day", $B34*Summary!$C$24, "-", "")*$D34) -> 0 | I34: =SUM(SWITCH($C34,"one time fee", $B34, "per person", sum($B34*I$23), "per night", $B34*Summary!$C$23, "per person per night", Summary!$C$23*$B34*I$23, "per day", $B34*Summary!$C$24, "-", "")*$D34) -> 0 | J34: =SUM(SWITCH($C34,"one time fee", $B34, "per person", sum($B34*J$23), "per night", $B34*Summary!$C$23, "per person per night", Summary!$C$23*$B34*J$23, "per day", $B34*Summary!$C$24, "-", "")*$D34) -> 0 | K34: =SUM(SWITCH($C34,"one time fee", $B34, "per person", sum($B34*K$23), "per night", $B34*Summary!$C$23, "per person per night", Summary!$C$23*$B34*K$23, "per day", $B34*Summary!$C$24, "-", "")*$D34) -> 0 | L34: =SUM(SWITCH($C34,"one time fee", $B34, "per person", sum($B34*L$23), "per night", $B34*Summary!$C$23, "per person per night", Summary!$C$23*$B34*L$23, "per day", $B34*Summary!$C$24, "-", "")*$D34) -> 0 | ... O34: =SUM(SWITCH($C34,"one time fee", $B34, "per person", sum($B34*O$23), "per night", $B34*Summary!$C$23, "per person per night", Summary!$C$23*$B34*O$23, "per day", $B34*Summary!$C$24, "-", "")*$D34) -> 0 | Q34: =SUM(SWITCH($C34,"one time fee", $B34, "per person", sum($B34*Q$23), "per night", $B34*Summary!$C$23, "per person per night", Summary!$C$23*$B34*Q$23, "per day", $B34*Summary!$C$24, "-", "")*$D34) -> 0
A35: Camping Fees (Beds) | B35: 0 | C35: per person | D35: 1 | E35: =SUM(SWITCH($C35,"one time fee", $B35, "per person", sum($B35*E$23), "per night", $B35*Summary!$C$23, "per person per night", Summary!$C$23*$B35*E$23, "per day", $B35*Summary!$C$24, "-", "")*$D35) -> 0 | F35: =SUM(SWITCH($C35,"one time fee", $B35, "per person", sum($B35*F$23), "per night", $B35*Summary!$C$23, "per person per night", Summary!$C$23*$B35*F$23, "per day", $B35*Summary!$C$24, "-", "")*$D35) -> 0 | G35: =SUM(SWITCH($C35,"one time fee", $B35, "per person", sum($B35*G$23), "per night", $B35*Summary!$C$23, "per person per night", Summary!$C$23*$B35*G$23, "per day", $B35*Summary!$C$24, "-", "")*$D35) -> 0 | H35: =SUM(SWITCH($C35,"one time fee", $B35, "per person", sum($B35*H$23), "per night", $B35*Summary!$C$23, "per person per night", Summary!$C$23*$B35*H$23, "per day", $B35*Summary!$C$24, "-", "")*$D35) -> 0 | I35: =SUM(SWITCH($C35,"one time fee", $B35, "per person", sum($B35*I$23), "per night", $B35*Summary!$C$23, "per person per night", Summary!$C$23*$B35*I$23, "per day", $B35*Summary!$C$24, "-", "")*$D35) -> 0 | J35: =SUM(SWITCH($C35,"one time fee", $B35, "per person", sum($B35*J$23), "per night", $B35*Summary!$C$23, "per person per night", Summary!$C$23*$B35*J$23, "per day", $B35*Summary!$C$24, "-", "")*$D35) -> 0 | K35: =SUM(SWITCH($C35,"one time fee", $B35, "per person", sum($B35*K$23), "per night", $B35*Summary!$C$23, "per person per night", Summary!$C$23*$B35*K$23, "per day", $B35*Summary!$C$24, "-", "")*$D35) -> 0 | L35: =SUM(SWITCH($C35,"one time fee", $B35, "per person", sum($B35*L$23), "per night", $B35*Summary!$C$23, "per person per night", Summary!$C$23*$B35*L$23, "per day", $B35*Summary!$C$24, "-", "")*$D35) -> 0 | ... O35: =SUM(SWITCH($C35,"one time fee", $B35, "per person", sum($B35*O$23), "per night", $B35*Summary!$C$23, "per person per night", Summary!$C$23*$B35*O$23, "per day", $B35*Summary!$C$24, "-", "")*$D35) -> 0 | Q35: =SUM(SWITCH($C35,"one time fee", $B35, "per person", sum($B35*Q$23), "per night", $B35*Summary!$C$23, "per person per night", Summary!$C$23*$B35*Q$23, "per day", $B35*Summary!$C$24, "-", "")*$D35) -> 0
A36: Afternoon Activities | B36: 0 | C36: per person | D36: 1 | E36: =SUM(SWITCH($C36,"one time fee", $B36, "per person", sum($B36*E$23), "per night", $B36*Summary!$C$23, "per person per night", Summary!$C$23*$B36*E$23, "per day", $B36*Summary!$C$24, "-", "")*$D36) -> 0 | F36: =SUM(SWITCH($C36,"one time fee", $B36, "per person", sum($B36*F$23), "per night", $B36*Summary!$C$23, "per person per night", Summary!$C$23*$B36*F$23, "per day", $B36*Summary!$C$24, "-", "")*$D36) -> 0 | G36: =SUM(SWITCH($C36,"one time fee", $B36, "per person", sum($B36*G$23), "per night", $B36*Summary!$C$23, "per person per night", Summary!$C$23*$B36*G$23, "per day", $B36*Summary!$C$24, "-", "")*$D36) -> 0 | H36: =SUM(SWITCH($C36,"one time fee", $B36, "per person", sum($B36*H$23), "per night", $B36*Summary!$C$23, "per person per night", Summary!$C$23*$B36*H$23, "per day", $B36*Summary!$C$24, "-", "")*$D36) -> 0 | I36: =SUM(SWITCH($C36,"one time fee", $B36, "per person", sum($B36*I$23), "per night", $B36*Summary!$C$23, "per person per night", Summary!$C$23*$B36*I$23, "per day", $B36*Summary!$C$24, "-", "")*$D36) -> 0 | J36: =SUM(SWITCH($C36,"one time fee", $B36, "per person", sum($B36*J$23), "per night", $B36*Summary!$C$23, "per person per night", Summary!$C$23*$B36*J$23, "per day", $B36*Summary!$C$24, "-", "")*$D36) -> 0 | K36: =SUM(SWITCH($C36,"one time fee", $B36, "per person", sum($B36*K$23), "per night", $B36*Summary!$C$23, "per person per night", Summary!$C$23*$B36*K$23, "per day", $B36*Summary!$C$24, "-", "")*$D36) -> 0 | L36: =SUM(SWITCH($C36,"one time fee", $B36, "per person", sum($B36*L$23), "per night", $B36*Summary!$C$23, "per person per night", Summary!$C$23*$B36*L$23, "per day", $B36*Summary!$C$24, "-", "")*$D36) -> 0 | ... O36: =SUM(SWITCH($C36,"one time fee", $B36, "per person", sum($B36*O$23), "per night", $B36*Summary!$C$23, "per person per night", Summary!$C$23*$B36*O$23, "per day", $B36*Summary!$C$24, "-", "")*$D36) -> 0 | Q36: =SUM(SWITCH($C36,"one time fee", $B36, "per person", sum($B36*Q$23), "per night", $B36*Summary!$C$23, "per person per night", Summary!$C$23*$B36*Q$23, "per day", $B36*Summary!$C$24, "-", "")*$D36) -> 0
B37: 0 | C37: - | D37: 1 | E37: =SUM(SWITCH($C37,"one time fee", $B37, "per person", sum($B37*E$23), "per night", $B37*Summary!$C$23, "per person per night", Summary!$C$23*$B37*E$23, "per day", $B37*Summary!$C$24, "-", "")*$D37) -> 0 | F37: =SUM(SWITCH($C37,"one time fee", $B37, "per person", sum($B37*F$23), "per night", $B37*Summary!$C$23, "per person per night", Summary!$C$23*$B37*F$23, "per day", $B37*Summary!$C$24, "-", "")*$D37) -> 0 | G37: =SUM(SWITCH($C37,"one time fee", $B37, "per person", sum($B37*G$23), "per night", $B37*Summary!$C$23, "per person per night", Summary!$C$23*$B37*G$23, "per day", $B37*Summary!$C$24, "-", "")*$D37) -> 0 | H37: =SUM(SWITCH($C37,"one time fee", $B37, "per person", sum($B37*H$23), "per night", $B37*Summary!$C$23, "per person per night", Summary!$C$23*$B37*H$23, "per day", $B37*Summary!$C$24, "-", "")*$D37) -> 0 | I37: =SUM(SWITCH($C37,"one time fee", $B37, "per person", sum($B37*I$23), "per night", $B37*Summary!$C$23, "per person per night", Summary!$C$23*$B37*I$23, "per day", $B37*Summary!$C$24, "-", "")*$D37) -> 0 | J37: =SUM(SWITCH($C37,"one time fee", $B37, "per person", sum($B37*J$23), "per night", $B37*Summary!$C$23, "per person per night", Summary!$C$23*$B37*J$23, "per day", $B37*Summary!$C$24, "-", "")*$D37) -> 0 | K37: =SUM(SWITCH($C37,"one time fee", $B37, "per person", sum($B37*K$23), "per night", $B37*Summary!$C$23, "per person per night", Summary!$C$23*$B37*K$23, "per day", $B37*Summary!$C$24, "-", "")*$D37) -> 0 | L37: =SUM(SWITCH($C37,"one time fee", $B37, "per person", sum($B37*L$23), "per night", $B37*Summary!$C$23, "per person per night", Summary!$C$23*$B37*L$23, "per day", $B37*Summary!$C$24, "-", "")*$D37) -> 0 | ... O37: =SUM(SWITCH($C37,"one time fee", $B37, "per person", sum($B37*O$23), "per night", $B37*Summary!$C$23, "per person per night", Summary!$C$23*$B37*O$23, "per day", $B37*Summary!$C$24, "-", "")*$D37) -> 0 | Q37: =SUM(SWITCH($C37,"one time fee", $B37, "per person", sum($B37*Q$23), "per night", $B37*Summary!$C$23, "per person per night", Summary!$C$23*$B37*Q$23, "per day", $B37*Summary!$C$24, "-", "")*$D37) -> 0
